BEGIN:VCALENDAR
VERSION:2.0
PRODID:-//wp-events-plugin.com//7.2.3.1//EN
TZID:Europe/Berlin
X-WR-TIMEZONE:Europe/Berlin
BEGIN:VEVENT
UID:850@missionsdienst-wegbereiter.de
DTSTART;TZID=Europe/Berlin:20251226T100000
DTEND;TZID=Europe/Berlin:20251226T113000
DTSTAMP:20251218T212659Z
URL:https://missionsdienst-wegbereiter.de/events/gottesdienst-2-weihnachts
 tag/
SUMMARY:Gottesdienst 2. Weihnachtstag
DESCRIPTION:Herzliche Einladung zum Gottesdienst der Wegbereiter-Missionsge
 meinde! Höhepunkte des Gottesdienstes sind Predigten und ein Programm der
  Jugend.\nSollten Sie verhindert sein\, können Sie den Gottesdienst über
  den Audiolivestream mithören: Radio Wegbereiter
ATTACH;FMTTYPE=image/jpeg:https://missionsdienst-wegbereiter.de/wp-content
 /uploads/2020/11/book-1936547-scaled.jpg
CATEGORIES:Gottesdienst,Home,Missionsgemeinde
LOCATION:Evangelischer Missionsdienst Die Wegbereiter e.V\, Kürnbacher Str
 aße 25\, Oberderdingen-Flehingen\, Baden-Württemberg\, 75038\, Baden-Wü
 rttemberg\, Deutschland
X-APPLE-STRUCTURED-LOCATION;VALUE=URI;X-ADDRESS=Kürnbacher Straße 25\, Ob
 erderdingen-Flehingen\, Baden-Württemberg\, 75038\, Baden-Württemberg\, 
 Deutschland;X-APPLE-RADIUS=100;X-TITLE=Evangelischer Missionsdienst Die We
 gbereiter e.V:geo:0,0
END:VEVENT
BEGIN:VTIMEZONE
TZID:Europe/Berlin
X-LIC-LOCATION:Europe/Berlin
BEGIN:STANDARD
DTSTART:20251026T020000
TZOFFSETFROM:+0200
TZOFFSETTO:+0100
TZNAME:CET
END:STANDARD
END:VTIMEZONE
END:VCALENDAR