BEGIN:VCALENDAR
VERSION:2.0
PRODID:-//wp-events-plugin.com//7.2.3.1//EN
TZID:Europe/Berlin
X-WR-TIMEZONE:Europe/Berlin
BEGIN:VEVENT
UID:851@missionsdienst-wegbereiter.de
DTSTART;TZID=Europe/Berlin:20260403T100000
DTEND;TZID=Europe/Berlin:20260403T170000
DTSTAMP:20260211T144649Z
URL:https://missionsdienst-wegbereiter.de/events/karfreitagstreffen-2/
SUMMARY:Karfreitagstreffen
DESCRIPTION:Herzliche Einladung zum Karfreitagstreffen!\nVersammlungen um 1
 0:00 Uhr und 14:30 Uhr\; Kinderstunde am Nachmittag.\nSie sind auch zum Mi
 ttagessen und Kaffeetrinken eingeladen!\nAudiolivestream: Radio Wegbereite
 r
ATTACH;FMTTYPE=image/jpeg:https://missionsdienst-wegbereiter.de/wp-content
 /uploads/2020/11/cross-4681291-scaled.jpg
CATEGORIES:Gottesdienst,Home,Missionsgemeinde
LOCATION:Evangelischer Missionsdienst Die Wegbereiter e.V\, Kürnbacher Str
 aße 25\, Oberderdingen-Flehingen\, Baden-Württemberg\, 75038\, Baden-Wü
 rttemberg\, Deutschland
X-APPLE-STRUCTURED-LOCATION;VALUE=URI;X-ADDRESS=Kürnbacher Straße 25\, Ob
 erderdingen-Flehingen\, Baden-Württemberg\, 75038\, Baden-Württemberg\, 
 Deutschland;X-APPLE-RADIUS=100;X-TITLE=Evangelischer Missionsdienst Die We
 gbereiter e.V:geo:0,0
END:VEVENT
BEGIN:VTIMEZONE
TZID:Europe/Berlin
X-LIC-LOCATION:Europe/Berlin
BEGIN:DAYLIGHT
DTSTART:20260329T030000
TZOFFSETFROM:+0100
TZOFFSETTO:+0200
TZNAME:CEST
END:DAYLIGHT
END:VTIMEZONE
END:VCALENDAR